BEGIN:VCALENDAR
VERSION:2.0
PRODID:-//CEKS - ECPv4.9.14//NONSGML v1.0//EN
CALSCALE:GREGORIAN
METHOD:PUBLISH
X-WR-CALNAME:CEKS
X-ORIGINAL-URL:https://cekskarate.org
X-WR-CALDESC:Events for CEKS
BEGIN:VTIMEZONE
TZID:UTC
BEGIN:STANDARD
TZOFFSETFROM:+0000
TZOFFSETTO:+0000
TZNAME:UTC
DTSTART:20260101T000000
END:STANDARD
END:VTIMEZONE
BEGIN:VEVENT
DTSTART;VALUE=DATE:20260715
DTEND;VALUE=DATE:20260716
DTSTAMP:20260421T090750
CREATED:20260328T165735Z
LAST-MODIFIED:20260328T170418Z
UID:2502-1784073600-1784159999@cekskarate.org
SUMMARY:DIA RADICAL CEKS
DESCRIPTION:\nDia Radical CEKS \nLocal: Natur Waterpark\nHorários:\n08:15 – Encontro na sede\n08:30 – Saída\n10:00 – Início das atividades\n20:15 – Chegada a sede CEKS \nInfo: 918 811 199 \nInscrições: clique aqui! \n
URL:https://cekskarate.org/event/dia-radical-ceks/
ATTACH;FMTTYPE=image/jpeg:https://cekskarate.org/wp-content/uploads/2019/09/Dia-Radical-2026-site.jpg
END:VEVENT
END:VCALENDAR