BEGIN:VCALENDAR
VERSION:2.0
PRODID:-//CEKS - ECPv4.9.14//NONSGML v1.0//EN
CALSCALE:GREGORIAN
METHOD:PUBLISH
X-WR-CALNAME:CEKS
X-ORIGINAL-URL:https://cekskarate.org
X-WR-CALDESC:Events for CEKS
BEGIN:VTIMEZONE
TZID:UTC
BEGIN:STANDARD
TZOFFSETFROM:+0000
TZOFFSETTO:+0000
TZNAME:UTC
DTSTART:20260101T000000
END:STANDARD
END:VTIMEZONE
BEGIN:VEVENT
DTSTART;VALUE=DATE:20260725
DTEND;VALUE=DATE:20260727
DTSTAMP:20260423T085946
CREATED:20221213T123605Z
LAST-MODIFIED:20260328T165005Z
UID:2422-1784937600-1785110399@cekskarate.org
SUMMARY:ESTÁGIO DE VERÃO
DESCRIPTION:\nEstágio de Verão.\nFicha de Inscrição: Clique aqui! \n  \n
URL:https://cekskarate.org/event/estagio-de-verao-exames-de-graduacao/
CATEGORIES:Estágios
ATTACH;FMTTYPE=image/jpeg:https://cekskarate.org/wp-content/uploads/2019/09/CARTAZ-VERAO-2026-site.jpg
END:VEVENT
END:VCALENDAR