BEGIN:VCALENDAR
VERSION:2.0
PRODID:-//CEKS - ECPv4.9.14//NONSGML v1.0//EN
CALSCALE:GREGORIAN
METHOD:PUBLISH
X-WR-CALNAME:CEKS
X-ORIGINAL-URL:https://cekskarate.org
X-WR-CALDESC:Events for CEKS
BEGIN:VTIMEZONE
TZID:UTC
BEGIN:STANDARD
TZOFFSETFROM:+0000
TZOFFSETTO:+0000
TZNAME:UTC
DTSTART:20260101T000000
END:STANDARD
END:VTIMEZONE
BEGIN:VEVENT
DTSTART;VALUE=DATE:20260613
DTEND;VALUE=DATE:20260614
DTSTAMP:20260421T091834
CREATED:20260329T103428Z
LAST-MODIFIED:20260329T114053Z
UID:2541-1781308800-1781395199@cekskarate.org
SUMMARY:EXAME DE GRADUADOS
DESCRIPTION:\nLocal: Sede CEKS Viseu \nCintos Castanhos: 14:30 – 19:00 \nCintos Negros: 19:00 – 23:00 \n
URL:https://cekskarate.org/event/exame-de-graduados/
ATTACH;FMTTYPE=image/jpeg:https://cekskarate.org/wp-content/uploads/2026/03/exames-graduados-junho-2026-site.jpg
END:VEVENT
END:VCALENDAR