BEGIN:VCALENDAR
VERSION:2.0
PRODID:-//CEKS - ECPv4.9.14//NONSGML v1.0//EN
CALSCALE:GREGORIAN
METHOD:PUBLISH
X-WR-CALNAME:CEKS
X-ORIGINAL-URL:https://cekskarate.org
X-WR-CALDESC:Events for CEKS
BEGIN:VTIMEZONE
TZID:UTC
BEGIN:STANDARD
TZOFFSETFROM:+0000
TZOFFSETTO:+0000
TZNAME:UTC
DTSTART:20260101T000000
END:STANDARD
END:VTIMEZONE
BEGIN:VEVENT
DTSTART;VALUE=DATE:20260626
DTEND;VALUE=DATE:20260629
DTSTAMP:20260421T110946
CREATED:20260329T103726Z
LAST-MODIFIED:20260329T103726Z
UID:2545-1782432000-1782691199@cekskarate.org
SUMMARY:INTERNATIONAL KARATE SEMINAR YSSU
DESCRIPTION:\nLocal: Saint Malo – France \n
URL:https://cekskarate.org/event/international-karate-seminar-yssu/
END:VEVENT
END:VCALENDAR